BEGIN:VCALENDAR
VERSION:2.0
PRODID:-//Every Brain Matters - ECPv6.15.11//NONSGML v1.0//EN
CALSCALE:GREGORIAN
METHOD:PUBLISH
X-ORIGINAL-URL:https://everybrainmatters.org
X-WR-CALDESC:Events for Every Brain Matters
REFRESH-INTERVAL;VALUE=DURATION:PT1H
X-Robots-Tag:noindex
X-PUBLISHED-TTL:PT1H
BEGIN:VTIMEZONE
TZID:America/Chicago
BEGIN:DAYLIGHT
TZOFFSETFROM:-0600
TZOFFSETTO:-0500
TZNAME:CDT
DTSTART:20210314T080000
END:DAYLIGHT
BEGIN:STANDARD
TZOFFSETFROM:-0500
TZOFFSETTO:-0600
TZNAME:CST
DTSTART:20211107T070000
END:STANDARD
BEGIN:DAYLIGHT
TZOFFSETFROM:-0600
TZOFFSETTO:-0500
TZNAME:CDT
DTSTART:20220313T080000
END:DAYLIGHT
BEGIN:STANDARD
TZOFFSETFROM:-0500
TZOFFSETTO:-0600
TZNAME:CST
DTSTART:20221106T070000
END:STANDARD
BEGIN:DAYLIGHT
TZOFFSETFROM:-0600
TZOFFSETTO:-0500
TZNAME:CDT
DTSTART:20230312T080000
END:DAYLIGHT
BEGIN:STANDARD
TZOFFSETFROM:-0500
TZOFFSETTO:-0600
TZNAME:CST
DTSTART:20231105T070000
END:STANDARD
END:VTIMEZONE
BEGIN:VEVENT
DTSTART;TZID=America/Chicago:20220818T130000
DTEND;TZID=America/Chicago:20220818T140000
DTSTAMP:20260424T063142
CREATED:20220804T223928Z
LAST-MODIFIED:20220804T231954Z
UID:10003449-1660827600-1660831200@everybrainmatters.org
SUMMARY:How An Impaired Driver Changed My Life Forever. Educational Speaker Series
DESCRIPTION:August 18\, 2022\n2:00 PM EST \n\n\n\n\nHear Corinne LaMarca’ s story of loss and the journey from heartbreak to advocacy. Impaired driving is a devastating danger on our roads today\, and is only increasing. This is a problem plaguing our roadways\, resulting in avoidable tragedies. This webinar is a good choice for parents\, youth\, and young adults. Register here. \n  \n\n\n\n\n\nEDUCATIONAL SPEAKERS SERIES by Parent Action Network (PAN)\nJoin us for any of our free online webinar events\, or schedule one for your own audience.
URL:https://everybrainmatters.org/event/how-an-impaired-driver-changed-my-life-forever-educational-speaker-series/
CATEGORIES:EBM Advocacy Group,EMB Support/Recovery Group
ATTACH;FMTTYPE=image/png:https://everybrainmatters.org/wp-content/uploads/PAN.png
END:VEVENT
END:VCALENDAR