BEGIN:VCALENDAR
VERSION:2.0
PRODID:-//Every Brain Matters - ECPv6.15.11//NONSGML v1.0//EN
CALSCALE:GREGORIAN
METHOD:PUBLISH
X-WR-CALNAME:Every Brain Matters
X-ORIGINAL-URL:https://everybrainmatters.org
X-WR-CALDESC:Events for Every Brain Matters
REFRESH-INTERVAL;VALUE=DURATION:PT1H
X-Robots-Tag:noindex
X-PUBLISHED-TTL:PT1H
BEGIN:VTIMEZONE
TZID:America/Chicago
BEGIN:DAYLIGHT
TZOFFSETFROM:-0600
TZOFFSETTO:-0500
TZNAME:CDT
DTSTART:20200308T080000
END:DAYLIGHT
BEGIN:STANDARD
TZOFFSETFROM:-0500
TZOFFSETTO:-0600
TZNAME:CST
DTSTART:20201101T070000
END:STANDARD
BEGIN:DAYLIGHT
TZOFFSETFROM:-0600
TZOFFSETTO:-0500
TZNAME:CDT
DTSTART:20210314T080000
END:DAYLIGHT
BEGIN:STANDARD
TZOFFSETFROM:-0500
TZOFFSETTO:-0600
TZNAME:CST
DTSTART:20211107T070000
END:STANDARD
BEGIN:DAYLIGHT
TZOFFSETFROM:-0600
TZOFFSETTO:-0500
TZNAME:CDT
DTSTART:20220313T080000
END:DAYLIGHT
BEGIN:STANDARD
TZOFFSETFROM:-0500
TZOFFSETTO:-0600
TZNAME:CST
DTSTART:20221106T070000
END:STANDARD
END:VTIMEZONE
BEGIN:VEVENT
DTSTART;TZID=America/Chicago:20211023T110000
DTEND;TZID=America/Chicago:20211023T120000
DTSTAMP:20260422T021942
CREATED:20210911T005322Z
LAST-MODIFIED:20210911T145511Z
UID:10003154-1634986800-1634990400@everybrainmatters.org
SUMMARY:Corinne and Sally's Testimony Workshop
DESCRIPTION:We invite you to our testimony workshop with Corinne Gasper and Sally Schindel who have become inspiring speakers and advocates after the loss of their children from the effects of marijuana. This workshop is for anyone willing to share their testimonies about how marijuana impacted their lives but doesn’t know how to take the first steps. \nThe effects of marijuana and other drugs are real and increasing. The general public doesn’t understand the devastating impacts.  So many times it’s hard for us to share honestly how today’s more potent and more dangerous marijuana has affected our lives and families. We understand that sharing your testimony can be painful and feel overwhelming. This workshop will provide you with support\, encouragement\, anonymity\, and the tools to simple steps to raise awareness. \nCorinne Gasper is the director of Jennifer’s Messengers\, an organization dedicated to honoring her daughter Jennifer and other people killed by marijuana-impaired drivers. Corinne was recently awarded the 2021 Moxie Award from The Drug Free America Foundation \nSally Schindel\,  is the founder of Marijuana Victims Alliance and on the National Marijuana Initiative Speakers Bureau and is an advisor and volunteer for multiple organizations including Every Brain Matters. Her son\, Andy\, died in 2014. Andy’s suicide death is linked to marijuana addiction. He left a powerful message that Sally wants all to know.  Andy said\, “Marijuana killed my soul + ruined my brain.” \nLink to the meeting. \nMeeting ID \nPasscode
URL:https://everybrainmatters.org/event/corinne-and-sallys-testimony-workshop/
CATEGORIES:EBM Advocacy Group
ATTACH;FMTTYPE=image/png:https://everybrainmatters.org/wp-content/uploads/Cori-and-Sally.png
ORGANIZER;CN="Every Brain Matters":MAILTO:info@everybrainmatters.org
END:VEVENT
END:VCALENDAR