BEGIN:VCALENDAR
VERSION:2.0
PRODID:-//Every Brain Matters - ECPv6.15.11//NONSGML v1.0//EN
CALSCALE:GREGORIAN
METHOD:PUBLISH
X-WR-CALNAME:Every Brain Matters
X-ORIGINAL-URL:https://everybrainmatters.org
X-WR-CALDESC:Events for Every Brain Matters
REFRESH-INTERVAL;VALUE=DURATION:PT1H
X-Robots-Tag:noindex
X-PUBLISHED-TTL:PT1H
BEGIN:VTIMEZONE
TZID:America/Chicago
BEGIN:DAYLIGHT
TZOFFSETFROM:-0600
TZOFFSETTO:-0500
TZNAME:CDT
DTSTART:20230312T080000
END:DAYLIGHT
BEGIN:STANDARD
TZOFFSETFROM:-0500
TZOFFSETTO:-0600
TZNAME:CST
DTSTART:20231105T070000
END:STANDARD
BEGIN:DAYLIGHT
TZOFFSETFROM:-0600
TZOFFSETTO:-0500
TZNAME:CDT
DTSTART:20240310T080000
END:DAYLIGHT
BEGIN:STANDARD
TZOFFSETFROM:-0500
TZOFFSETTO:-0600
TZNAME:CST
DTSTART:20241103T070000
END:STANDARD
BEGIN:DAYLIGHT
TZOFFSETFROM:-0600
TZOFFSETTO:-0500
TZNAME:CDT
DTSTART:20250309T080000
END:DAYLIGHT
BEGIN:STANDARD
TZOFFSETFROM:-0500
TZOFFSETTO:-0600
TZNAME:CST
DTSTART:20251102T070000
END:STANDARD
END:VTIMEZONE
BEGIN:VEVENT
DTSTART;TZID=America/Chicago:20240906T120000
DTEND;TZID=America/Chicago:20240906T130000
DTSTAMP:20260422T020507
CREATED:20240807T193107Z
LAST-MODIFIED:20240808T151459Z
UID:10004627-1725624000-1725627600@everybrainmatters.org
SUMMARY:Taking on the Cannabis Industry and Winning - Patrick Kenneally
DESCRIPTION:Patrick Kenneally successfully sued the cannabis industry in McHenry County\, Illinois. As a result\, cannabis dispensaries are now required to warn customers of the negative health consequences with in-store signage of the mental-health dangers associated with cannabis use\, including psychosis\, depression\, and suicidal ideation. Cannabis businesses are also required to scrub their marketing and website of any suggestion that their products have medical benefits. \nMr. Kenneally believes more lawsuits are needed to protect people from the cannabis industry’s predatory practices. To learn more from Patrick Kennealy\, join us on Sept. 6\, 2024\, at noon central time zone. \nREGISTER AT THIS LINK.  \nPatrick joined the McHenry County State’s Attorney’s Office in 2007 as an assistant state’s attorney. During his tenure as an assistant state’s attorney\, Patrick worked in traffic court\, misdemeanor court\, felony court\, as a special prosecutor\, in the Civil Division\, and as the First Assistant. He handled thousands of criminal prosecutions and represented the County in civil litigation and on government-related legal matters. Patrick was elected McHenry County State’s Attorney in 2016. \nPatrick believes it is his duty to stand in solidarity with victims who often must endure for a lifetime the consequences of the senseless criminal acts of others. He is committed to resolutely prosecuting criminal offenders\, but doing so without ever losing sight of his ultimate ethical responsibility to seek justice before all else and ensure a defendant’s rights are protected. \nPatrick has been awarded the Turning Point Peace and Justice Award for his work on behalf of victims of domestic battery and currently serves on the Executive Board of the McHenry County Substance Abuse Coalition. He is also a member of the McHenry County and Illinois Bar Associations. \nPersonal \nPatrick is the proud husband of Colleen. He\, Colleen\, and their four sons live in Crystal Lake. Patrick and his family are members of St. Thomas Church in Crystal Lake\, where Patrick is a member of the Knights of Columbus. \nEducation \nPatrick earned his law degree from Washington University School of Law in 2005 and also has a master’s degree in environmental law from the University of Vermont. Prior to law school\, Patrick earned his bachelor’s degree in biology and liberal arts from College of the Holy Cross. At Holy Cross\, Patrick was named to the All-Time Patriot League Academic Honor Roll. \nCourt and Bar Admissions\n \n\nState of Illinois\nUnited States District Court for the Northern District of Illinois
URL:https://everybrainmatters.org/event/taking-on-the-cannabis-industry-and-winning-patrick-kenneally/
LOCATION:Online Zoom Meeting
CATEGORIES:Webinar
ATTACH;FMTTYPE=image/png:https://everybrainmatters.org/wp-content/uploads/Patrick-Kenneally-webinar-1.png
END:VEVENT
BEGIN:VEVENT
DTSTART;TZID=America/Chicago:20240907T103000
DTEND;TZID=America/Chicago:20240907T120000
DTSTAMP:20260422T020507
CREATED:20240904T163810Z
LAST-MODIFIED:20240904T163810Z
UID:10004691-1725705000-1725710400@everybrainmatters.org
SUMMARY:Climbers Family Support Meetings - Saturdays
DESCRIPTION:Joe Parker leads this online family support group where participants learn family recovery tools that empower them to take the next step to help them navigate through a loved one’s marijuana addiction\, psychosis\, hyperemesis\, and other destructive behaviors. Whether families decide to take small steps or hike the mountain\, each step counts and can positively impact their families’ relationships and health. These are open cross-talking meetings where people can ask questions and share ideas. We will focus on a different recovery topic each week. \nThis is a free meeting for everyone. A donation is NOT required to attend\, but if you can help us compensate Joe for his professional expertise and time\, please consider a donation of $20.00 per person or $35.00 per family. Donations can be made on our website or at everybrainmatters.org/donate/. \nJoin us every Saturday from 10:30 am to noon central time zone. \nREGISTER AT THIS LINK. Please note this is a different registration than the Wednesday Climbers meeting.
URL:https://everybrainmatters.org/event/climbers-family-support-meetings-saturdays/2024-09-07/
LOCATION:Climbers with Joe Parker
CATEGORIES:EMB Support/Recovery Group,Support group with Joe Parker
ORGANIZER;CN="Every Brain Matters":MAILTO:info@everybrainmatters.org
END:VEVENT
BEGIN:VEVENT
DTSTART;TZID=America/Chicago:20240911T170000
DTEND;TZID=America/Chicago:20240911T183000
DTSTAMP:20260422T020507
CREATED:20240827T173148Z
LAST-MODIFIED:20240827T173149Z
UID:10004629-1726074000-1726079400@everybrainmatters.org
SUMMARY:Young Adults’ Cannabis Recovery Support Meeting
DESCRIPTION:This support meeting is for individuals\, ages 18 – 35\, who have struggled with a cannabis use disorder (CUD)\, cannabis-induced psychosis (CIP)\, or cannabinoid hyperemesis syndrome (CHS). This is a closed meeting for people who have struggled with these conditions. Attendees must be sober. We welcome newly sober newcomers seeking practical steps to stay sober and pursue a healthier life. We will not glorify the past; we will only look to learn from it. Our primary goal is to maintain sobriety\, heal from the negative\, long-lasting effects of using cannabis products\, and help others achieve sobriety. These meetings will focus on abstinence. We do not support and will not discuss any form of marijuana maintenance plan. \n\n\nThe primary formula that we follow in our discussions is P.S.A. = Problem. Solution. Action. \n\n\nThis meeting will be held online on the 2nd Wednesday of the month starting August 14\, 2024\, from 5:00 pm to 6:30 pm Central Time. For more information\, contact Doug Dolan at dougdolan@recoveryinthepines.com \n\n\nDoug Dolan will be the moderator for these sessions. He is in recovery\, sobriety date is April 19\, 1997. Doug works extensively in substance abuse\, mental health\, and personal life transformation. He sits on multiple committees focused on these issues\, as well as those focused on reducing overdose fatalities\, suicide prevention\, helping families in crisis\, and various aspects of brain health. \nREGISTER HERE
URL:https://everybrainmatters.org/event/young-adults-cannabis-recovery-support-meeting-2/
CATEGORIES:EMB Support/Recovery Group,Support group with Doug Dolan
ATTACH;FMTTYPE=image/png:https://everybrainmatters.org/wp-content/uploads/Young-adult-support-meeting-1.png
END:VEVENT
BEGIN:VEVENT
DTSTART;TZID=America/Chicago:20240914T103000
DTEND;TZID=America/Chicago:20240914T120000
DTSTAMP:20260422T020507
CREATED:20240904T163810Z
LAST-MODIFIED:20240904T163810Z
UID:10004692-1726309800-1726315200@everybrainmatters.org
SUMMARY:Climbers Family Support Meetings - Saturdays
DESCRIPTION:Joe Parker leads this online family support group where participants learn family recovery tools that empower them to take the next step to help them navigate through a loved one’s marijuana addiction\, psychosis\, hyperemesis\, and other destructive behaviors. Whether families decide to take small steps or hike the mountain\, each step counts and can positively impact their families’ relationships and health. These are open cross-talking meetings where people can ask questions and share ideas. We will focus on a different recovery topic each week. \nThis is a free meeting for everyone. A donation is NOT required to attend\, but if you can help us compensate Joe for his professional expertise and time\, please consider a donation of $20.00 per person or $35.00 per family. Donations can be made on our website or at everybrainmatters.org/donate/. \nJoin us every Saturday from 10:30 am to noon central time zone. \nREGISTER AT THIS LINK. Please note this is a different registration than the Wednesday Climbers meeting.
URL:https://everybrainmatters.org/event/climbers-family-support-meetings-saturdays/2024-09-14/
LOCATION:Climbers with Joe Parker
CATEGORIES:EMB Support/Recovery Group,Support group with Joe Parker
ORGANIZER;CN="Every Brain Matters":MAILTO:info@everybrainmatters.org
END:VEVENT
BEGIN:VEVENT
DTSTART;TZID=America/Chicago:20240921T103000
DTEND;TZID=America/Chicago:20240921T120000
DTSTAMP:20260422T020507
CREATED:20240904T163810Z
LAST-MODIFIED:20240904T163810Z
UID:10004693-1726914600-1726920000@everybrainmatters.org
SUMMARY:Climbers Family Support Meetings - Saturdays
DESCRIPTION:Joe Parker leads this online family support group where participants learn family recovery tools that empower them to take the next step to help them navigate through a loved one’s marijuana addiction\, psychosis\, hyperemesis\, and other destructive behaviors. Whether families decide to take small steps or hike the mountain\, each step counts and can positively impact their families’ relationships and health. These are open cross-talking meetings where people can ask questions and share ideas. We will focus on a different recovery topic each week. \nThis is a free meeting for everyone. A donation is NOT required to attend\, but if you can help us compensate Joe for his professional expertise and time\, please consider a donation of $20.00 per person or $35.00 per family. Donations can be made on our website or at everybrainmatters.org/donate/. \nJoin us every Saturday from 10:30 am to noon central time zone. \nREGISTER AT THIS LINK. Please note this is a different registration than the Wednesday Climbers meeting.
URL:https://everybrainmatters.org/event/climbers-family-support-meetings-saturdays/2024-09-21/
LOCATION:Climbers with Joe Parker
CATEGORIES:EMB Support/Recovery Group,Support group with Joe Parker
ORGANIZER;CN="Every Brain Matters":MAILTO:info@everybrainmatters.org
END:VEVENT
BEGIN:VEVENT
DTSTART;TZID=America/Chicago:20240928T103000
DTEND;TZID=America/Chicago:20240928T120000
DTSTAMP:20260422T020507
CREATED:20240904T163810Z
LAST-MODIFIED:20240904T163810Z
UID:10004694-1727519400-1727524800@everybrainmatters.org
SUMMARY:Climbers Family Support Meetings - Saturdays
DESCRIPTION:Joe Parker leads this online family support group where participants learn family recovery tools that empower them to take the next step to help them navigate through a loved one’s marijuana addiction\, psychosis\, hyperemesis\, and other destructive behaviors. Whether families decide to take small steps or hike the mountain\, each step counts and can positively impact their families’ relationships and health. These are open cross-talking meetings where people can ask questions and share ideas. We will focus on a different recovery topic each week. \nThis is a free meeting for everyone. A donation is NOT required to attend\, but if you can help us compensate Joe for his professional expertise and time\, please consider a donation of $20.00 per person or $35.00 per family. Donations can be made on our website or at everybrainmatters.org/donate/. \nJoin us every Saturday from 10:30 am to noon central time zone. \nREGISTER AT THIS LINK. Please note this is a different registration than the Wednesday Climbers meeting.
URL:https://everybrainmatters.org/event/climbers-family-support-meetings-saturdays/2024-09-28/
LOCATION:Climbers with Joe Parker
CATEGORIES:EMB Support/Recovery Group,Support group with Joe Parker
ORGANIZER;CN="Every Brain Matters":MAILTO:info@everybrainmatters.org
END:VEVENT
END:VCALENDAR