BEGIN:VCALENDAR
VERSION:2.0
PRODID:-//Every Brain Matters - ECPv6.15.11//NONSGML v1.0//EN
CALSCALE:GREGORIAN
METHOD:PUBLISH
X-ORIGINAL-URL:https://everybrainmatters.org
X-WR-CALDESC:Events for Every Brain Matters
REFRESH-INTERVAL;VALUE=DURATION:PT1H
X-Robots-Tag:noindex
X-PUBLISHED-TTL:PT1H
BEGIN:VTIMEZONE
TZID:America/Chicago
BEGIN:DAYLIGHT
TZOFFSETFROM:-0600
TZOFFSETTO:-0500
TZNAME:CDT
DTSTART:20210314T080000
END:DAYLIGHT
BEGIN:STANDARD
TZOFFSETFROM:-0500
TZOFFSETTO:-0600
TZNAME:CST
DTSTART:20211107T070000
END:STANDARD
BEGIN:DAYLIGHT
TZOFFSETFROM:-0600
TZOFFSETTO:-0500
TZNAME:CDT
DTSTART:20220313T080000
END:DAYLIGHT
BEGIN:STANDARD
TZOFFSETFROM:-0500
TZOFFSETTO:-0600
TZNAME:CST
DTSTART:20221106T070000
END:STANDARD
BEGIN:DAYLIGHT
TZOFFSETFROM:-0600
TZOFFSETTO:-0500
TZNAME:CDT
DTSTART:20230312T080000
END:DAYLIGHT
BEGIN:STANDARD
TZOFFSETFROM:-0500
TZOFFSETTO:-0600
TZNAME:CST
DTSTART:20231105T070000
END:STANDARD
END:VTIMEZONE
BEGIN:VEVENT
DTSTART;TZID=America/Chicago:20221102T190000
DTEND;TZID=America/Chicago:20221102T203000
DTSTAMP:20260421T223943
CREATED:20210310T224224Z
LAST-MODIFIED:20210325T225648Z
UID:10002020-1667415600-1667421000@everybrainmatters.org
SUMMARY:Every Brain Matters Climbers Support Group
DESCRIPTION:EBM Climbers support group with Joe Parker. This meeting is an interactive educational group for family members to bring issues\, questions or concerns\, and receive direct feedback from a counselor and other family members. As well as learn tools of recovery to help you and your family. The majority of the people who attend this group have been negatively impacted by marijuana. \nEvery Wednesday for 90 mins. \nCost is $20.00 per person or $35.00 per couple\, make payment on Venmo: gijoe2002 and the last 4 digits of Joe’s phone # are: 9387 (can discuss other payment options with Joe) \nLink to meeting \nMeeting ID: 818 9972 3766\nPasscode: Climbers \nEvery Brain Matters Recovery Community is built on a foundation of love\, willingness\, and HONESTY. We seek to create a culture of healing. \nThe expansion of marijuana is negatively affecting people in many ways:  addiction\, psychosis\, suicide\, homicide\, DUI’s\, Cannabinoid Hyperemesis Syndrome\, and other incidents of injury or trauma resulting in harm or death\, overdoses\, and where marijuana was a gateway\, companion\, and/or relapse drug.
URL:https://everybrainmatters.org/event/every-brain-matters-climbers-support-group/2022-11-02/
LOCATION:Climbers with Joe Parker
CATEGORIES:EMB Support/Recovery Group,Support group with Joe Parker
ATTACH;FMTTYPE=image/jpeg:https://everybrainmatters.org/wp-content/uploads/shutterstock_1228466968-scaled.jpg
ORGANIZER;CN="Every Brain Matters":MAILTO:info@everybrainmatters.org
END:VEVENT
BEGIN:VEVENT
DTSTART;TZID=America/Chicago:20221104T180000
DTEND;TZID=America/Chicago:20221104T190000
DTSTAMP:20260421T223943
CREATED:20210214T030742Z
LAST-MODIFIED:20220919T151426Z
UID:10002840-1667584800-1667588400@everybrainmatters.org
SUMMARY:Every Brain Matters Monthly Speakers Meeting -Rowan-P.
DESCRIPTION:I’m Rowan painter\, 18 years old\, from Houston Texas. I became addicted to vaping marijuana at a young age which led me to feel depressed and I was totally shut down. Then\, I progressed to use more drugs\,  like injecting meth. I have been in and out of recovery for 3 years with some challenging situations\, but I’m so grateful to say\, I now have achieved 8 months of sobriety. My life has completely changed and the obsession to get high is no longer haunting me.  And on a lighter note\, a fun fact about me is  I love the reality TV show Survivor and have studied the game since its conception.  My dream is to one day be picked to participate in the Survivor challenge. Please join me to hear more about my recovery story on Nov. 4\, 2022.\n\nJoin us on the first Friday of every month for messages of hope and healing from the impacts of marijuana. We welcome a different speaker every month who will share their experience and provide pathways to find serenity as we navigate through today’s pro-marijuana/drug culture. Whether you’re grieving the loss of a loved one or trying to recover yourself\, this meeting is for you. You will be a Q & A at the end of each meeting. This meeting is appropriate for all family members ages 16 and up. \nLink To Meeting \nMeeting ID: 872 9417 0134\nPasscode: ebmsupport \nEvery Brain Matters Recovery Community is built on a foundation of love\, willingness\, and HONESTY. We seek to create a culture of healing. \nThe expansion of marijuana is negatively affecting people in many ways:  addiction\, psychosis\, suicide\, homicide\, DUI’s\, Cannabinoid Hyperemesis Syndrome\, and other incidents of injury or trauma resulting in harm or death\, overdoses\, and where marijuana was a gateway\, companion\, and/or relapse drug. \nThis meeting may be recorded with the presenters’ and the participants’ permission.
URL:https://everybrainmatters.org/event/every-brain-matters-support-recovery-group-rowan-p/
CATEGORIES:EMB Support/Recovery Group
ATTACH;FMTTYPE=image/jpeg:https://everybrainmatters.org/wp-content/uploads/unnamed-6.jpg
ORGANIZER;CN="Every Brain Matters":MAILTO:info@everybrainmatters.org
END:VEVENT
BEGIN:VEVENT
DTSTART;TZID=America/Chicago:20221109T190000
DTEND;TZID=America/Chicago:20221109T203000
DTSTAMP:20260421T223943
CREATED:20210310T224224Z
LAST-MODIFIED:20210325T225648Z
UID:10002021-1668020400-1668025800@everybrainmatters.org
SUMMARY:Every Brain Matters Climbers Support Group
DESCRIPTION:EBM Climbers support group with Joe Parker. This meeting is an interactive educational group for family members to bring issues\, questions or concerns\, and receive direct feedback from a counselor and other family members. As well as learn tools of recovery to help you and your family. The majority of the people who attend this group have been negatively impacted by marijuana. \nEvery Wednesday for 90 mins. \nCost is $20.00 per person or $35.00 per couple\, make payment on Venmo: gijoe2002 and the last 4 digits of Joe’s phone # are: 9387 (can discuss other payment options with Joe) \nLink to meeting \nMeeting ID: 818 9972 3766\nPasscode: Climbers \nEvery Brain Matters Recovery Community is built on a foundation of love\, willingness\, and HONESTY. We seek to create a culture of healing. \nThe expansion of marijuana is negatively affecting people in many ways:  addiction\, psychosis\, suicide\, homicide\, DUI’s\, Cannabinoid Hyperemesis Syndrome\, and other incidents of injury or trauma resulting in harm or death\, overdoses\, and where marijuana was a gateway\, companion\, and/or relapse drug.
URL:https://everybrainmatters.org/event/every-brain-matters-climbers-support-group/2022-11-09/
LOCATION:Climbers with Joe Parker
CATEGORIES:EMB Support/Recovery Group,Support group with Joe Parker
ATTACH;FMTTYPE=image/jpeg:https://everybrainmatters.org/wp-content/uploads/shutterstock_1228466968-scaled.jpg
ORGANIZER;CN="Every Brain Matters":MAILTO:info@everybrainmatters.org
END:VEVENT
BEGIN:VEVENT
DTSTART;TZID=America/Chicago:20221116T190000
DTEND;TZID=America/Chicago:20221116T203000
DTSTAMP:20260421T223943
CREATED:20210310T224224Z
LAST-MODIFIED:20210325T225648Z
UID:10002022-1668625200-1668630600@everybrainmatters.org
SUMMARY:Every Brain Matters Climbers Support Group
DESCRIPTION:EBM Climbers support group with Joe Parker. This meeting is an interactive educational group for family members to bring issues\, questions or concerns\, and receive direct feedback from a counselor and other family members. As well as learn tools of recovery to help you and your family. The majority of the people who attend this group have been negatively impacted by marijuana. \nEvery Wednesday for 90 mins. \nCost is $20.00 per person or $35.00 per couple\, make payment on Venmo: gijoe2002 and the last 4 digits of Joe’s phone # are: 9387 (can discuss other payment options with Joe) \nLink to meeting \nMeeting ID: 818 9972 3766\nPasscode: Climbers \nEvery Brain Matters Recovery Community is built on a foundation of love\, willingness\, and HONESTY. We seek to create a culture of healing. \nThe expansion of marijuana is negatively affecting people in many ways:  addiction\, psychosis\, suicide\, homicide\, DUI’s\, Cannabinoid Hyperemesis Syndrome\, and other incidents of injury or trauma resulting in harm or death\, overdoses\, and where marijuana was a gateway\, companion\, and/or relapse drug.
URL:https://everybrainmatters.org/event/every-brain-matters-climbers-support-group/2022-11-16/
LOCATION:Climbers with Joe Parker
CATEGORIES:EMB Support/Recovery Group,Support group with Joe Parker
ATTACH;FMTTYPE=image/jpeg:https://everybrainmatters.org/wp-content/uploads/shutterstock_1228466968-scaled.jpg
ORGANIZER;CN="Every Brain Matters":MAILTO:info@everybrainmatters.org
END:VEVENT
BEGIN:VEVENT
DTSTART;TZID=America/Chicago:20221123T180000
DTEND;TZID=America/Chicago:20221123T190000
DTSTAMP:20260421T223943
CREATED:20210317T221321Z
LAST-MODIFIED:20221111T020132Z
UID:10003559-1669226400-1669230000@everybrainmatters.org
SUMMARY:Wednesday Mar-Anon meeting with focus on adult qualifiers (independent of EBM)
DESCRIPTION:This meeting every Wednesday will focus on adult qualifiers (spouses\, boyfriends\, girlfriends\, significant others\, brothers/sisters\, parents etc.) although all are welcome. \nMar-Anon is a fellowship of those affected by another person’s marijuana use.  Its foundation is the Twelve Steps\, adapted from Marijuana Anonymous\, which can be a powerful\, life-changing tool.  We come together to work the steps and offer hope\, comfort\, and support for other members.  We are not a religious group\, instead\, we use the steps as a path of self-discovery and personal change. The only requirement for membership is that a person be affected by another’s marijuana addiction. \nMar-Anon is independent of the Every Brain Matters Organization. EBM encourages Mar-Anon meetings to promote healing. \nThis is an online zoom meeting. \nJoin Zoom MeetingMeeting ID: 881 0189 3504 \nOne tap mobile+17193594580\,\,88101893504# US+12532158782\,\,88101893504# US (Tacoma) \n 
URL:https://everybrainmatters.org/event/mar-anon-independent-of-ebm-2022-10-25-2022-11-15-2022-11-22/
LOCATION:Mar-anon
CATEGORIES:Mar-Anon meeting
ATTACH;FMTTYPE=image/jpeg:https://everybrainmatters.org/wp-content/uploads/Mar-Anon-Logo-small.jpg
ORGANIZER;CN="Mar-Anon":MAILTO:bartjbright@gmail.com
END:VEVENT
BEGIN:VEVENT
DTSTART;TZID=America/Chicago:20221123T190000
DTEND;TZID=America/Chicago:20221123T203000
DTSTAMP:20260421T223943
CREATED:20210310T224224Z
LAST-MODIFIED:20210325T225648Z
UID:10002023-1669230000-1669235400@everybrainmatters.org
SUMMARY:Every Brain Matters Climbers Support Group
DESCRIPTION:EBM Climbers support group with Joe Parker. This meeting is an interactive educational group for family members to bring issues\, questions or concerns\, and receive direct feedback from a counselor and other family members. As well as learn tools of recovery to help you and your family. The majority of the people who attend this group have been negatively impacted by marijuana. \nEvery Wednesday for 90 mins. \nCost is $20.00 per person or $35.00 per couple\, make payment on Venmo: gijoe2002 and the last 4 digits of Joe’s phone # are: 9387 (can discuss other payment options with Joe) \nLink to meeting \nMeeting ID: 818 9972 3766\nPasscode: Climbers \nEvery Brain Matters Recovery Community is built on a foundation of love\, willingness\, and HONESTY. We seek to create a culture of healing. \nThe expansion of marijuana is negatively affecting people in many ways:  addiction\, psychosis\, suicide\, homicide\, DUI’s\, Cannabinoid Hyperemesis Syndrome\, and other incidents of injury or trauma resulting in harm or death\, overdoses\, and where marijuana was a gateway\, companion\, and/or relapse drug.
URL:https://everybrainmatters.org/event/every-brain-matters-climbers-support-group/2022-11-23/
LOCATION:Climbers with Joe Parker
CATEGORIES:EMB Support/Recovery Group,Support group with Joe Parker
ATTACH;FMTTYPE=image/jpeg:https://everybrainmatters.org/wp-content/uploads/shutterstock_1228466968-scaled.jpg
ORGANIZER;CN="Every Brain Matters":MAILTO:info@everybrainmatters.org
END:VEVENT
BEGIN:VEVENT
DTSTART;TZID=America/Chicago:20221130T190000
DTEND;TZID=America/Chicago:20221130T203000
DTSTAMP:20260421T223943
CREATED:20210310T224224Z
LAST-MODIFIED:20210325T225648Z
UID:10002024-1669834800-1669840200@everybrainmatters.org
SUMMARY:Every Brain Matters Climbers Support Group
DESCRIPTION:EBM Climbers support group with Joe Parker. This meeting is an interactive educational group for family members to bring issues\, questions or concerns\, and receive direct feedback from a counselor and other family members. As well as learn tools of recovery to help you and your family. The majority of the people who attend this group have been negatively impacted by marijuana. \nEvery Wednesday for 90 mins. \nCost is $20.00 per person or $35.00 per couple\, make payment on Venmo: gijoe2002 and the last 4 digits of Joe’s phone # are: 9387 (can discuss other payment options with Joe) \nLink to meeting \nMeeting ID: 818 9972 3766\nPasscode: Climbers \nEvery Brain Matters Recovery Community is built on a foundation of love\, willingness\, and HONESTY. We seek to create a culture of healing. \nThe expansion of marijuana is negatively affecting people in many ways:  addiction\, psychosis\, suicide\, homicide\, DUI’s\, Cannabinoid Hyperemesis Syndrome\, and other incidents of injury or trauma resulting in harm or death\, overdoses\, and where marijuana was a gateway\, companion\, and/or relapse drug.
URL:https://everybrainmatters.org/event/every-brain-matters-climbers-support-group/2022-11-30/
LOCATION:Climbers with Joe Parker
CATEGORIES:EMB Support/Recovery Group,Support group with Joe Parker
ATTACH;FMTTYPE=image/jpeg:https://everybrainmatters.org/wp-content/uploads/shutterstock_1228466968-scaled.jpg
ORGANIZER;CN="Every Brain Matters":MAILTO:info@everybrainmatters.org
END:VEVENT
END:VCALENDAR