BEGIN:VCALENDAR
VERSION:2.0
PRODID:-//Every Brain Matters - ECPv6.15.11//NONSGML v1.0//EN
CALSCALE:GREGORIAN
METHOD:PUBLISH
X-ORIGINAL-URL:https://everybrainmatters.org
X-WR-CALDESC:Events for Every Brain Matters
REFRESH-INTERVAL;VALUE=DURATION:PT1H
X-Robots-Tag:noindex
X-PUBLISHED-TTL:PT1H
BEGIN:VTIMEZONE
TZID:America/Chicago
BEGIN:DAYLIGHT
TZOFFSETFROM:-0600
TZOFFSETTO:-0500
TZNAME:CDT
DTSTART:20220313T080000
END:DAYLIGHT
BEGIN:STANDARD
TZOFFSETFROM:-0500
TZOFFSETTO:-0600
TZNAME:CST
DTSTART:20221106T070000
END:STANDARD
BEGIN:DAYLIGHT
TZOFFSETFROM:-0600
TZOFFSETTO:-0500
TZNAME:CDT
DTSTART:20230312T080000
END:DAYLIGHT
BEGIN:STANDARD
TZOFFSETFROM:-0500
TZOFFSETTO:-0600
TZNAME:CST
DTSTART:20231105T070000
END:STANDARD
BEGIN:DAYLIGHT
TZOFFSETFROM:-0600
TZOFFSETTO:-0500
TZNAME:CDT
DTSTART:20240310T080000
END:DAYLIGHT
BEGIN:STANDARD
TZOFFSETFROM:-0500
TZOFFSETTO:-0600
TZNAME:CST
DTSTART:20241103T070000
END:STANDARD
END:VTIMEZONE
BEGIN:VEVENT
DTSTART;TZID=America/Chicago:20230201T190000
DTEND;TZID=America/Chicago:20230201T203000
DTSTAMP:20260421T172329
CREATED:20210310T224224Z
LAST-MODIFIED:20210325T225648Z
UID:10002033-1675278000-1675283400@everybrainmatters.org
SUMMARY:Every Brain Matters Climbers Support Group
DESCRIPTION:EBM Climbers support group with Joe Parker. This meeting is an interactive educational group for family members to bring issues\, questions or concerns\, and receive direct feedback from a counselor and other family members. As well as learn tools of recovery to help you and your family. The majority of the people who attend this group have been negatively impacted by marijuana. \nEvery Wednesday for 90 mins. \nCost is $20.00 per person or $35.00 per couple\, make payment on Venmo: gijoe2002 and the last 4 digits of Joe’s phone # are: 9387 (can discuss other payment options with Joe) \nLink to meeting \nMeeting ID: 818 9972 3766\nPasscode: Climbers \nEvery Brain Matters Recovery Community is built on a foundation of love\, willingness\, and HONESTY. We seek to create a culture of healing. \nThe expansion of marijuana is negatively affecting people in many ways:  addiction\, psychosis\, suicide\, homicide\, DUI’s\, Cannabinoid Hyperemesis Syndrome\, and other incidents of injury or trauma resulting in harm or death\, overdoses\, and where marijuana was a gateway\, companion\, and/or relapse drug.
URL:https://everybrainmatters.org/event/every-brain-matters-climbers-support-group/2023-02-01/
LOCATION:Climbers with Joe Parker
CATEGORIES:EMB Support/Recovery Group,Support group with Joe Parker
ATTACH;FMTTYPE=image/jpeg:https://everybrainmatters.org/wp-content/uploads/shutterstock_1228466968-scaled.jpg
ORGANIZER;CN="Every Brain Matters":MAILTO:info@everybrainmatters.org
END:VEVENT
BEGIN:VEVENT
DTSTART;TZID=America/Chicago:20230203T180000
DTEND;TZID=America/Chicago:20230203T190000
DTSTAMP:20260421T172329
CREATED:20230101T235402Z
LAST-MODIFIED:20230101T235432Z
UID:10002844-1675447200-1675450800@everybrainmatters.org
SUMMARY:Every Brain Matters Monthly Speakers Meeting - Ethan D.
DESCRIPTION:My name is Ethan and I started struggling emotionally at a young age. I grew up in a dysfunctional family\, where drugs and alcohol were used to cope with life’s challenges. My parents drank themselves away from me and other relationships.  I was the youngest in the family and I grew up helping my older sisters sneak out at night. My parents divorced when I was 14 years old and I felt completely alone because I was the last child left in the house.  As my family continued to struggle\, I found that drugs helped me get through each day. At first\, it started out fun but soon the only reason I woke up was to use alcohol and marijuana.  Marijuana became my obsession.  It’s all I thought about each day\, and all day long. Using marijuana at such a young age had a major impact on my mental health\, and I developed a deep anger toward the world. Today I am 20 years old and I am proud to say have achieved  3 and a half years of sobriety. I also help teens and young adults who have struggled like me find their pathway to sobriety. Join me on Feb 3rd to hear about my experience\, strength\, and hope. \nJoin us on the first Friday of every month for messages of hope and healing from the impacts of marijuana. We welcome a different speaker every month who will share their experience and provide pathways to find serenity as we navigate through today’s pro-marijuana/drug culture. Whether you’re grieving the loss of a loved one or trying to recover yourself\, this meeting is for you. You will be a Q & A at the end of each meeting. This meeting is appropriate for all family members ages 16 and up. \nLink To Meeting \nMeeting ID: 872 9417 0134\nPasscode: ebmsupport \nEvery Brain Matters Recovery Community is built on a foundation of love\, willingness\, and HONESTY. We seek to create a culture of healing. \nThe expansion of marijuana is negatively affecting people in many ways:  addiction\, psychosis\, suicide\, homicide\, DUIs\, Cannabinoid Hyperemesis Syndrome\, and other incidents of injury or trauma resulting in harm or death\, overdoses\, and where marijuana was a gateway\, companion\, and/or relapse drug. \nThis meeting may be recorded with the presenters’ and the participants’ permission.
URL:https://everybrainmatters.org/event/speakers-meeting-ethan-d/
CATEGORIES:EMB Support/Recovery Group
ATTACH;FMTTYPE=image/png:https://everybrainmatters.org/wp-content/uploads/EBM-meme-for-testimoniesarticles.png
ORGANIZER;CN="Every Brain Matters":MAILTO:info@everybrainmatters.org
END:VEVENT
BEGIN:VEVENT
DTSTART;TZID=America/Chicago:20230208T190000
DTEND;TZID=America/Chicago:20230208T203000
DTSTAMP:20260421T172329
CREATED:20210310T224224Z
LAST-MODIFIED:20210325T225648Z
UID:10002034-1675882800-1675888200@everybrainmatters.org
SUMMARY:Every Brain Matters Climbers Support Group
DESCRIPTION:EBM Climbers support group with Joe Parker. This meeting is an interactive educational group for family members to bring issues\, questions or concerns\, and receive direct feedback from a counselor and other family members. As well as learn tools of recovery to help you and your family. The majority of the people who attend this group have been negatively impacted by marijuana. \nEvery Wednesday for 90 mins. \nCost is $20.00 per person or $35.00 per couple\, make payment on Venmo: gijoe2002 and the last 4 digits of Joe’s phone # are: 9387 (can discuss other payment options with Joe) \nLink to meeting \nMeeting ID: 818 9972 3766\nPasscode: Climbers \nEvery Brain Matters Recovery Community is built on a foundation of love\, willingness\, and HONESTY. We seek to create a culture of healing. \nThe expansion of marijuana is negatively affecting people in many ways:  addiction\, psychosis\, suicide\, homicide\, DUI’s\, Cannabinoid Hyperemesis Syndrome\, and other incidents of injury or trauma resulting in harm or death\, overdoses\, and where marijuana was a gateway\, companion\, and/or relapse drug.
URL:https://everybrainmatters.org/event/every-brain-matters-climbers-support-group/2023-02-08/
LOCATION:Climbers with Joe Parker
CATEGORIES:EMB Support/Recovery Group,Support group with Joe Parker
ATTACH;FMTTYPE=image/jpeg:https://everybrainmatters.org/wp-content/uploads/shutterstock_1228466968-scaled.jpg
ORGANIZER;CN="Every Brain Matters":MAILTO:info@everybrainmatters.org
END:VEVENT
BEGIN:VEVENT
DTSTART;TZID=America/Chicago:20230215T190000
DTEND;TZID=America/Chicago:20230215T203000
DTSTAMP:20260421T172329
CREATED:20210310T224224Z
LAST-MODIFIED:20210325T225648Z
UID:10002035-1676487600-1676493000@everybrainmatters.org
SUMMARY:Every Brain Matters Climbers Support Group
DESCRIPTION:EBM Climbers support group with Joe Parker. This meeting is an interactive educational group for family members to bring issues\, questions or concerns\, and receive direct feedback from a counselor and other family members. As well as learn tools of recovery to help you and your family. The majority of the people who attend this group have been negatively impacted by marijuana. \nEvery Wednesday for 90 mins. \nCost is $20.00 per person or $35.00 per couple\, make payment on Venmo: gijoe2002 and the last 4 digits of Joe’s phone # are: 9387 (can discuss other payment options with Joe) \nLink to meeting \nMeeting ID: 818 9972 3766\nPasscode: Climbers \nEvery Brain Matters Recovery Community is built on a foundation of love\, willingness\, and HONESTY. We seek to create a culture of healing. \nThe expansion of marijuana is negatively affecting people in many ways:  addiction\, psychosis\, suicide\, homicide\, DUI’s\, Cannabinoid Hyperemesis Syndrome\, and other incidents of injury or trauma resulting in harm or death\, overdoses\, and where marijuana was a gateway\, companion\, and/or relapse drug.
URL:https://everybrainmatters.org/event/every-brain-matters-climbers-support-group/2023-02-15/
LOCATION:Climbers with Joe Parker
CATEGORIES:EMB Support/Recovery Group,Support group with Joe Parker
ATTACH;FMTTYPE=image/jpeg:https://everybrainmatters.org/wp-content/uploads/shutterstock_1228466968-scaled.jpg
ORGANIZER;CN="Every Brain Matters":MAILTO:info@everybrainmatters.org
END:VEVENT
BEGIN:VEVENT
DTSTART;TZID=America/Chicago:20230222T190000
DTEND;TZID=America/Chicago:20230222T203000
DTSTAMP:20260421T172329
CREATED:20210310T224224Z
LAST-MODIFIED:20210325T225648Z
UID:10002036-1677092400-1677097800@everybrainmatters.org
SUMMARY:Every Brain Matters Climbers Support Group
DESCRIPTION:EBM Climbers support group with Joe Parker. This meeting is an interactive educational group for family members to bring issues\, questions or concerns\, and receive direct feedback from a counselor and other family members. As well as learn tools of recovery to help you and your family. The majority of the people who attend this group have been negatively impacted by marijuana. \nEvery Wednesday for 90 mins. \nCost is $20.00 per person or $35.00 per couple\, make payment on Venmo: gijoe2002 and the last 4 digits of Joe’s phone # are: 9387 (can discuss other payment options with Joe) \nLink to meeting \nMeeting ID: 818 9972 3766\nPasscode: Climbers \nEvery Brain Matters Recovery Community is built on a foundation of love\, willingness\, and HONESTY. We seek to create a culture of healing. \nThe expansion of marijuana is negatively affecting people in many ways:  addiction\, psychosis\, suicide\, homicide\, DUI’s\, Cannabinoid Hyperemesis Syndrome\, and other incidents of injury or trauma resulting in harm or death\, overdoses\, and where marijuana was a gateway\, companion\, and/or relapse drug.
URL:https://everybrainmatters.org/event/every-brain-matters-climbers-support-group/2023-02-22/
LOCATION:Climbers with Joe Parker
CATEGORIES:EMB Support/Recovery Group,Support group with Joe Parker
ATTACH;FMTTYPE=image/jpeg:https://everybrainmatters.org/wp-content/uploads/shutterstock_1228466968-scaled.jpg
ORGANIZER;CN="Every Brain Matters":MAILTO:info@everybrainmatters.org
END:VEVENT
END:VCALENDAR